BEGIN:VCALENDAR
VERSION:2.0
PRODID:-//Sacred Heart Atherton - ECPv6.15.20//NONSGML v1.0//EN
CALSCALE:GREGORIAN
METHOD:PUBLISH
X-ORIGINAL-URL:https://www.athertonsacredheart.wigan.sch.uk
X-WR-CALDESC:Events for Sacred Heart Atherton
REFRESH-INTERVAL;VALUE=DURATION:PT1H
X-Robots-Tag:noindex
X-PUBLISHED-TTL:PT1H
BEGIN:VTIMEZONE
TZID:Europe/London
BEGIN:DAYLIGHT
TZOFFSETFROM:+0000
TZOFFSETTO:+0100
TZNAME:BST
DTSTART:20220327T010000
END:DAYLIGHT
BEGIN:STANDARD
TZOFFSETFROM:+0100
TZOFFSETTO:+0000
TZNAME:GMT
DTSTART:20221030T010000
END:STANDARD
BEGIN:DAYLIGHT
TZOFFSETFROM:+0000
TZOFFSETTO:+0100
TZNAME:BST
DTSTART:20230326T010000
END:DAYLIGHT
BEGIN:STANDARD
TZOFFSETFROM:+0100
TZOFFSETTO:+0000
TZNAME:GMT
DTSTART:20231029T010000
END:STANDARD
BEGIN:DAYLIGHT
TZOFFSETFROM:+0000
TZOFFSETTO:+0100
TZNAME:BST
DTSTART:20240331T010000
END:DAYLIGHT
BEGIN:STANDARD
TZOFFSETFROM:+0100
TZOFFSETTO:+0000
TZNAME:GMT
DTSTART:20241027T010000
END:STANDARD
END:VTIMEZONE
BEGIN:VEVENT
DTSTART;TZID=Europe/London:20230403T080000
DTEND;TZID=Europe/London:20230414T170000
DTSTAMP:20260424T113839
CREATED:20221103T185329Z
LAST-MODIFIED:20221103T185329Z
UID:9496-1680508800-1681491600@www.athertonsacredheart.wigan.sch.uk
SUMMARY:Easter Holidays
DESCRIPTION:School is closed for 2 weeks for Easter
URL:https://www.athertonsacredheart.wigan.sch.uk/event/easter-holidays-3/
END:VEVENT
BEGIN:VEVENT
DTSTART;TZID=Europe/London:20230407T080000
DTEND;TZID=Europe/London:20230407T170000
DTSTAMP:20260424T113839
CREATED:20221103T185404Z
LAST-MODIFIED:20221103T185404Z
UID:9498-1680854400-1680886800@www.athertonsacredheart.wigan.sch.uk
SUMMARY:Good Friday
DESCRIPTION:Today is Good Friday – Religious Holiday
URL:https://www.athertonsacredheart.wigan.sch.uk/event/good-friday-2/
END:VEVENT
BEGIN:VEVENT
DTSTART;TZID=Europe/London:20230410T080000
DTEND;TZID=Europe/London:20230410T170000
DTSTAMP:20260424T113839
CREATED:20221103T185435Z
LAST-MODIFIED:20221103T185435Z
UID:9500-1681113600-1681146000@www.athertonsacredheart.wigan.sch.uk
SUMMARY:Easter Monday
DESCRIPTION:Today is Easter Monday – Religious Holiday
URL:https://www.athertonsacredheart.wigan.sch.uk/event/easter-monday-2/
END:VEVENT
BEGIN:VEVENT
DTSTART;TZID=Europe/London:20230417T073000
DTEND;TZID=Europe/London:20230417T180000
DTSTAMP:20260424T113839
CREATED:20221103T185601Z
LAST-MODIFIED:20221117T191245Z
UID:9502-1681716600-1681754400@www.athertonsacredheart.wigan.sch.uk
SUMMARY:School Re-opens for the start of Summer Term
DESCRIPTION:School re-opens today for the start of Summer Term. Clubs resume as usual
URL:https://www.athertonsacredheart.wigan.sch.uk/event/school-re-opens-for-the-start-of-summer-term/
END:VEVENT
BEGIN:VEVENT
DTSTART;TZID=Europe/London:20230426T130000
DTEND;TZID=Europe/London:20230426T153000
DTSTAMP:20260424T113839
CREATED:20221103T183455Z
LAST-MODIFIED:20221103T183455Z
UID:9472-1682514000-1682523000@www.athertonsacredheart.wigan.sch.uk
SUMMARY:Maths Reasoning Club 7
DESCRIPTION:A group of children  from Y6 will visit Parklee School to partake in mathematical reasoning activities.
URL:https://www.athertonsacredheart.wigan.sch.uk/event/maths-reasoning-club-7/
END:VEVENT
END:VCALENDAR