BEGIN:VCALENDAR
VERSION:2.0
PRODID:-//Sacred Heart Atherton - ECPv6.15.20//NONSGML v1.0//EN
CALSCALE:GREGORIAN
METHOD:PUBLISH
X-WR-CALNAME:Sacred Heart Atherton
X-ORIGINAL-URL:https://www.athertonsacredheart.wigan.sch.uk
X-WR-CALDESC:Events for Sacred Heart Atherton
REFRESH-INTERVAL;VALUE=DURATION:PT1H
X-Robots-Tag:noindex
X-PUBLISHED-TTL:PT1H
BEGIN:VTIMEZONE
TZID:Europe/London
BEGIN:DAYLIGHT
TZOFFSETFROM:+0000
TZOFFSETTO:+0100
TZNAME:BST
DTSTART:20250330T010000
END:DAYLIGHT
BEGIN:STANDARD
TZOFFSETFROM:+0100
TZOFFSETTO:+0000
TZNAME:GMT
DTSTART:20251026T010000
END:STANDARD
BEGIN:DAYLIGHT
TZOFFSETFROM:+0000
TZOFFSETTO:+0100
TZNAME:BST
DTSTART:20260329T010000
END:DAYLIGHT
BEGIN:STANDARD
TZOFFSETFROM:+0100
TZOFFSETTO:+0000
TZNAME:GMT
DTSTART:20261025T010000
END:STANDARD
BEGIN:DAYLIGHT
TZOFFSETFROM:+0000
TZOFFSETTO:+0100
TZNAME:BST
DTSTART:20270328T010000
END:DAYLIGHT
BEGIN:STANDARD
TZOFFSETFROM:+0100
TZOFFSETTO:+0000
TZNAME:GMT
DTSTART:20271031T010000
END:STANDARD
END:VTIMEZONE
BEGIN:VEVENT
DTSTART;TZID=Europe/London:20260703T090500
DTEND;TZID=Europe/London:20260703T093500
DTSTAMP:20260420T114909
CREATED:20260415T140137Z
LAST-MODIFIED:20260415T140137Z
UID:14021-1783069500-1783071300@www.athertonsacredheart.wigan.sch.uk
SUMMARY:Reducing Screen Time Assembly Led by Y4
DESCRIPTION:Today’s assembly will be led by Year 4. Parents are welcome to attend.
URL:https://www.athertonsacredheart.wigan.sch.uk/event/reducing-screen-time-assembly-led-by-y4/
END:VEVENT
END:VCALENDAR