BEGIN:VCALENDAR
VERSION:2.0
PRODID:-//Sacred Heart Atherton - ECPv6.15.20//NONSGML v1.0//EN
CALSCALE:GREGORIAN
METHOD:PUBLISH
X-WR-CALNAME:Sacred Heart Atherton
X-ORIGINAL-URL:https://www.athertonsacredheart.wigan.sch.uk
X-WR-CALDESC:Events for Sacred Heart Atherton
REFRESH-INTERVAL;VALUE=DURATION:PT1H
X-Robots-Tag:noindex
X-PUBLISHED-TTL:PT1H
BEGIN:VTIMEZONE
TZID:Europe/London
BEGIN:DAYLIGHT
TZOFFSETFROM:+0000
TZOFFSETTO:+0100
TZNAME:BST
DTSTART:20250330T010000
END:DAYLIGHT
BEGIN:STANDARD
TZOFFSETFROM:+0100
TZOFFSETTO:+0000
TZNAME:GMT
DTSTART:20251026T010000
END:STANDARD
BEGIN:DAYLIGHT
TZOFFSETFROM:+0000
TZOFFSETTO:+0100
TZNAME:BST
DTSTART:20260329T010000
END:DAYLIGHT
BEGIN:STANDARD
TZOFFSETFROM:+0100
TZOFFSETTO:+0000
TZNAME:GMT
DTSTART:20261025T010000
END:STANDARD
BEGIN:DAYLIGHT
TZOFFSETFROM:+0000
TZOFFSETTO:+0100
TZNAME:BST
DTSTART:20270328T010000
END:DAYLIGHT
BEGIN:STANDARD
TZOFFSETFROM:+0100
TZOFFSETTO:+0000
TZNAME:GMT
DTSTART:20271031T010000
END:STANDARD
END:VTIMEZONE
BEGIN:VEVENT
DTSTART;TZID=Europe/London:20260422T091000
DTEND;TZID=Europe/London:20260422T093000
DTSTAMP:20260422T021947
CREATED:20260316T095945Z
LAST-MODIFIED:20260316T095945Z
UID:13935-1776849000-1776850200@www.athertonsacredheart.wigan.sch.uk
SUMMARY:Year 1 Parents Phonics Session
DESCRIPTION:Mrs Rogerson will be holding a parent meeting to provide information about the Year 1 Phonic Screening Check that place in June. \nThe meeting will take place in the school hall \nParents and carers are welcome to attend either session  (Wednesday 1st April at 9.10 am). \nWe look forward to seeing you there. \nMrs Rogerson
URL:https://www.athertonsacredheart.wigan.sch.uk/event/year-1-parents-phonics-session/
END:VEVENT
END:VCALENDAR