BEGIN:VCALENDAR
VERSION:2.0
PRODID:-//Sacred Heart Atherton - ECPv6.15.20//NONSGML v1.0//EN
CALSCALE:GREGORIAN
METHOD:PUBLISH
X-WR-CALNAME:Sacred Heart Atherton
X-ORIGINAL-URL:https://www.athertonsacredheart.wigan.sch.uk
X-WR-CALDESC:Events for Sacred Heart Atherton
REFRESH-INTERVAL;VALUE=DURATION:PT1H
X-Robots-Tag:noindex
X-PUBLISHED-TTL:PT1H
BEGIN:VTIMEZONE
TZID:Europe/London
BEGIN:DAYLIGHT
TZOFFSETFROM:+0000
TZOFFSETTO:+0100
TZNAME:BST
DTSTART:20220327T010000
END:DAYLIGHT
BEGIN:STANDARD
TZOFFSETFROM:+0100
TZOFFSETTO:+0000
TZNAME:GMT
DTSTART:20221030T010000
END:STANDARD
BEGIN:DAYLIGHT
TZOFFSETFROM:+0000
TZOFFSETTO:+0100
TZNAME:BST
DTSTART:20230326T010000
END:DAYLIGHT
BEGIN:STANDARD
TZOFFSETFROM:+0100
TZOFFSETTO:+0000
TZNAME:GMT
DTSTART:20231029T010000
END:STANDARD
BEGIN:DAYLIGHT
TZOFFSETFROM:+0000
TZOFFSETTO:+0100
TZNAME:BST
DTSTART:20240331T010000
END:DAYLIGHT
BEGIN:STANDARD
TZOFFSETFROM:+0100
TZOFFSETTO:+0000
TZNAME:GMT
DTSTART:20241027T010000
END:STANDARD
END:VTIMEZONE
BEGIN:VEVENT
DTSTART;TZID=Europe/London:20230125T091000
DTEND;TZID=Europe/London:20230125T094500
DTSTAMP:20260420T101944
CREATED:20221208T184133Z
LAST-MODIFIED:20221208T184133Z
UID:9686-1674637800-1674639900@www.athertonsacredheart.wigan.sch.uk
SUMMARY:Y3/Y4 Reading VIPERS Parent Workshop
DESCRIPTION:Mrs Kirkup will lead a parent session on VIPERS and how you can use this at home to support your child with their reading and comprehension.
URL:https://www.athertonsacredheart.wigan.sch.uk/event/y3-y4-reading-vipers-parent-workshop/
END:VEVENT
BEGIN:VEVENT
DTSTART;TZID=Europe/London:20230125T104500
DTEND;TZID=Europe/London:20230125T113000
DTSTAMP:20260420T101944
CREATED:20221208T133703Z
LAST-MODIFIED:20221208T133703Z
UID:9668-1674643500-1674646200@www.athertonsacredheart.wigan.sch.uk
SUMMARY:Chime Session 3
DESCRIPTION:Imelda from Wigan Music Service will be coming in to work with our Reception children – music and movement.
URL:https://www.athertonsacredheart.wigan.sch.uk/event/chime-session-3/
END:VEVENT
END:VCALENDAR