BEGIN:VCALENDAR
VERSION:2.0
PRODID:-//Sacred Heart Atherton - ECPv6.15.20//NONSGML v1.0//EN
CALSCALE:GREGORIAN
METHOD:PUBLISH
X-ORIGINAL-URL:https://www.athertonsacredheart.wigan.sch.uk
X-WR-CALDESC:Events for Sacred Heart Atherton
REFRESH-INTERVAL;VALUE=DURATION:PT1H
X-Robots-Tag:noindex
X-PUBLISHED-TTL:PT1H
BEGIN:VTIMEZONE
TZID:Europe/London
BEGIN:DAYLIGHT
TZOFFSETFROM:+0000
TZOFFSETTO:+0100
TZNAME:BST
DTSTART:20220327T010000
END:DAYLIGHT
BEGIN:STANDARD
TZOFFSETFROM:+0100
TZOFFSETTO:+0000
TZNAME:GMT
DTSTART:20221030T010000
END:STANDARD
BEGIN:DAYLIGHT
TZOFFSETFROM:+0000
TZOFFSETTO:+0100
TZNAME:BST
DTSTART:20230326T010000
END:DAYLIGHT
BEGIN:STANDARD
TZOFFSETFROM:+0100
TZOFFSETTO:+0000
TZNAME:GMT
DTSTART:20231029T010000
END:STANDARD
BEGIN:DAYLIGHT
TZOFFSETFROM:+0000
TZOFFSETTO:+0100
TZNAME:BST
DTSTART:20240331T010000
END:DAYLIGHT
BEGIN:STANDARD
TZOFFSETFROM:+0100
TZOFFSETTO:+0000
TZNAME:GMT
DTSTART:20241027T010000
END:STANDARD
END:VTIMEZONE
BEGIN:VEVENT
DTSTART;TZID=Europe/London:20230112T091000
DTEND;TZID=Europe/London:20230112T094500
DTSTAMP:20260420T133851
CREATED:20221208T183435Z
LAST-MODIFIED:20221208T183435Z
UID:9676-1673514600-1673516700@www.athertonsacredheart.wigan.sch.uk
SUMMARY:Key Stage 1 (Year 2) SATs Meeting
DESCRIPTION:SATs – Standard Assessment Tests. Parent meeting to explain when and how the tests will be sat. The purpose of the tests will also be explained.
URL:https://www.athertonsacredheart.wigan.sch.uk/event/key-stage-1-year-2-sats-meeting/
END:VEVENT
END:VCALENDAR