BEGIN:VCALENDAR
VERSION:2.0
PRODID:-//Sacred Heart Atherton - ECPv6.15.20//NONSGML v1.0//EN
CALSCALE:GREGORIAN
METHOD:PUBLISH
X-ORIGINAL-URL:https://www.athertonsacredheart.wigan.sch.uk
X-WR-CALDESC:Events for Sacred Heart Atherton
REFRESH-INTERVAL;VALUE=DURATION:PT1H
X-Robots-Tag:noindex
X-PUBLISHED-TTL:PT1H
BEGIN:VTIMEZONE
TZID:Europe/London
BEGIN:DAYLIGHT
TZOFFSETFROM:+0000
TZOFFSETTO:+0100
TZNAME:BST
DTSTART:20220327T010000
END:DAYLIGHT
BEGIN:STANDARD
TZOFFSETFROM:+0100
TZOFFSETTO:+0000
TZNAME:GMT
DTSTART:20221030T010000
END:STANDARD
BEGIN:DAYLIGHT
TZOFFSETFROM:+0000
TZOFFSETTO:+0100
TZNAME:BST
DTSTART:20230326T010000
END:DAYLIGHT
BEGIN:STANDARD
TZOFFSETFROM:+0100
TZOFFSETTO:+0000
TZNAME:GMT
DTSTART:20231029T010000
END:STANDARD
BEGIN:DAYLIGHT
TZOFFSETFROM:+0000
TZOFFSETTO:+0100
TZNAME:BST
DTSTART:20240331T010000
END:DAYLIGHT
BEGIN:STANDARD
TZOFFSETFROM:+0100
TZOFFSETTO:+0000
TZNAME:GMT
DTSTART:20241027T010000
END:STANDARD
END:VTIMEZONE
BEGIN:VEVENT
DTSTART;TZID=Europe/London:20230104T073000
DTEND;TZID=Europe/London:20230104T180000
DTSTAMP:20260420T133941
CREATED:20221103T184727Z
LAST-MODIFIED:20221103T184727Z
UID:9486-1672817400-1672855200@www.athertonsacredheart.wigan.sch.uk
SUMMARY:School Re-opens
DESCRIPTION:School re-opens to the children today. Clubs resume as normal
URL:https://www.athertonsacredheart.wigan.sch.uk/event/school-re-opens-7/
END:VEVENT
END:VCALENDAR