BEGIN:VCALENDAR
VERSION:2.0
PRODID:-//Sacred Heart Atherton - ECPv6.15.20//NONSGML v1.0//EN
CALSCALE:GREGORIAN
METHOD:PUBLISH
X-WR-CALNAME:Sacred Heart Atherton
X-ORIGINAL-URL:https://www.athertonsacredheart.wigan.sch.uk
X-WR-CALDESC:Events for Sacred Heart Atherton
REFRESH-INTERVAL;VALUE=DURATION:PT1H
X-Robots-Tag:noindex
X-PUBLISHED-TTL:PT1H
BEGIN:VTIMEZONE
TZID:Europe/London
BEGIN:DAYLIGHT
TZOFFSETFROM:+0000
TZOFFSETTO:+0100
TZNAME:BST
DTSTART:20210328T010000
END:DAYLIGHT
BEGIN:STANDARD
TZOFFSETFROM:+0100
TZOFFSETTO:+0000
TZNAME:GMT
DTSTART:20211031T010000
END:STANDARD
BEGIN:DAYLIGHT
TZOFFSETFROM:+0000
TZOFFSETTO:+0100
TZNAME:BST
DTSTART:20220327T010000
END:DAYLIGHT
BEGIN:STANDARD
TZOFFSETFROM:+0100
TZOFFSETTO:+0000
TZNAME:GMT
DTSTART:20221030T010000
END:STANDARD
BEGIN:DAYLIGHT
TZOFFSETFROM:+0000
TZOFFSETTO:+0100
TZNAME:BST
DTSTART:20230326T010000
END:DAYLIGHT
BEGIN:STANDARD
TZOFFSETFROM:+0100
TZOFFSETTO:+0000
TZNAME:GMT
DTSTART:20231029T010000
END:STANDARD
END:VTIMEZONE
BEGIN:VEVENT
DTSTART;TZID=Europe/London:20221212T140000
DTEND;TZID=Europe/London:20221212T150000
DTSTAMP:20260420T103031
CREATED:20221110T191726Z
LAST-MODIFIED:20221110T191726Z
UID:9567-1670853600-1670857200@www.athertonsacredheart.wigan.sch.uk
SUMMARY:Key Stage 2 Carol Concert
DESCRIPTION:Parents and parishioners are welcome to join the children in singing carols to help us all prepare for Christmas. We look forward to seeing you there. \n  \nThe children will need to be collected from St. Richard’s church. Time has been allowed for you to collect your child and then be at school for 3.30pm to collect younger siblings. \n  \nSt. Richard’s Church –  Mayfield St\, Atherton\, Manchester M46 0AQ
URL:https://www.athertonsacredheart.wigan.sch.uk/event/key-stage-2-carol-concert-2/
END:VEVENT
END:VCALENDAR