BEGIN:VCALENDAR
VERSION:2.0
PRODID:-//Sacred Heart Atherton - ECPv6.15.20//NONSGML v1.0//EN
CALSCALE:GREGORIAN
METHOD:PUBLISH
X-ORIGINAL-URL:https://www.athertonsacredheart.wigan.sch.uk
X-WR-CALDESC:Events for Sacred Heart Atherton
REFRESH-INTERVAL;VALUE=DURATION:PT1H
X-Robots-Tag:noindex
X-PUBLISHED-TTL:PT1H
BEGIN:VTIMEZONE
TZID:Europe/London
BEGIN:DAYLIGHT
TZOFFSETFROM:+0000
TZOFFSETTO:+0100
TZNAME:BST
DTSTART:20210328T010000
END:DAYLIGHT
BEGIN:STANDARD
TZOFFSETFROM:+0100
TZOFFSETTO:+0000
TZNAME:GMT
DTSTART:20211031T010000
END:STANDARD
BEGIN:DAYLIGHT
TZOFFSETFROM:+0000
TZOFFSETTO:+0100
TZNAME:BST
DTSTART:20220327T010000
END:DAYLIGHT
BEGIN:STANDARD
TZOFFSETFROM:+0100
TZOFFSETTO:+0000
TZNAME:GMT
DTSTART:20221030T010000
END:STANDARD
BEGIN:DAYLIGHT
TZOFFSETFROM:+0000
TZOFFSETTO:+0100
TZNAME:BST
DTSTART:20230326T010000
END:DAYLIGHT
BEGIN:STANDARD
TZOFFSETFROM:+0100
TZOFFSETTO:+0000
TZNAME:GMT
DTSTART:20231029T010000
END:STANDARD
END:VTIMEZONE
BEGIN:VEVENT
DTSTART;TZID=Europe/London:20221003T080000
DTEND;TZID=Europe/London:20221007T170000
DTSTAMP:20260420T085728
CREATED:20220905T130355Z
LAST-MODIFIED:20220905T130355Z
UID:8987-1664784000-1665162000@www.athertonsacredheart.wigan.sch.uk
SUMMARY:Judaism Week
DESCRIPTION:This week the children will be learning about Judaism. 2 classes will be visiting the synagogue and we also have a visitor coming to school to share their faith with us.
URL:https://www.athertonsacredheart.wigan.sch.uk/event/judaism-week/
END:VEVENT
BEGIN:VEVENT
DTSTART;TZID=Europe/London:20221004T154000
DTEND;TZID=Europe/London:20221004T161500
DTSTAMP:20260420T085728
CREATED:20220920T141206Z
LAST-MODIFIED:20220920T141555Z
UID:9136-1664898000-1664900100@www.athertonsacredheart.wigan.sch.uk
SUMMARY:High School Parents Meeting - Y5/Y6
DESCRIPTION:St. Mary’s staff and former pupils are visiting school to talk about High Schools. All parents of children in Years 5 and 6 are invited to attend.
URL:https://www.athertonsacredheart.wigan.sch.uk/event/high-school-parents-meeting-y5-y6/
END:VEVENT
END:VCALENDAR